BEGIN:VCALENDAR
VERSION:2.0
CALSCALE:GREGORIAN
PRODID:adamgibbons/ics
METHOD:PUBLISH
X-PUBLISHED-TTL:PT1H
BEGIN:VEVENT
UID:13184@do.basspistol.org
SUMMARY:5-9 pm art experiment
DTSTAMP:20260422T225135Z
DTSTART:20260502T010000Z
DTEND:20260502T035500Z
DESCRIPTION:May 1st: Brasserie Beaubien\n5-9 pm art experiment...\n9 pm to 
	late music
URL:https://do.basspistol.org/event/5-9-pm-art-experiment
LOCATION:Brasserie Beaubien - 73 Beaubien Est Montreal\, QC\, Canada H2S 1R
	1
STATUS:CONFIRMED
CATEGORIES:experimental,Emo
X-ALT-DESC;FMTTYPE=text/html:<p>May 1st: Brasserie Beaubien<br>5-9 pm art e
	xperiment...<br>9 pm to late music</p>
BEGIN:VALARM
ACTION:DISPLAY
DESCRIPTION:5-9 pm art experiment
TRIGGER:-PT1H
END:VALARM
END:VEVENT
END:VCALENDAR
