BEGIN:VCALENDAR
VERSION:2.0
CALSCALE:GREGORIAN
PRODID:adamgibbons/ics
METHOD:PUBLISH
X-PUBLISHED-TTL:PT1H
BEGIN:VEVENT
UID:13121@do.basspistol.org
SUMMARY:Asamblea de Vivienda del Pilar
DTSTAMP:20260421T102122Z
DTSTART:20260422T170000Z
DTEND:20260422T190000Z
URL:https://do.basspistol.org/event/asamblea-de-vivienda-del-pilar
GEO:40.4767175;-3.7073351
LOCATION:CSA La Piluka - Plaza de Corcubión 16
STATUS:CONFIRMED
CATEGORIES:Madrid
BEGIN:VALARM
ACTION:DISPLAY
DESCRIPTION:Asamblea de Vivienda del Pilar
TRIGGER:-PT1H
END:VALARM
END:VEVENT
END:VCALENDAR
