BEGIN:VCALENDAR
VERSION:2.0
CALSCALE:GREGORIAN
PRODID:adamgibbons/ics
METHOD:PUBLISH
X-PUBLISHED-TTL:PT1H
BEGIN:VEVENT
UID:13125@do.basspistol.org
SUMMARY:🫶 Asesorías colectivas Proceso Regularización Extraordinaria
DTSTAMP:20260421T111344Z
DTSTART:20260421T183000Z
DTEND:20260421T200000Z
DESCRIPTION:Entre todas nos ayudamos a reunir documentación y acceder al tr
	ámite de la\nsolicitud de regularización extraordinaria antes del 30 de ju
	nio.\n\n¿DÓNDE SOLICITARLO?\n\n * Telemática: Plataforma ‘Mercurio’ (24/7)
	 – necesita intermediario si no tiene\n   firma electrónica (¿qué es eso?\
	n   [https://www.sede.fnmt.gob.es/certificados/persona-fisica]).\n\n * Pre
	sencial: Oficinas habilitadas de Correos (372 oficinas)\, Seguridad Social
	\n   (60 oficinas) y Extranjería (5 oficinas).\n\n * Con apoyo de ONGs y a
	sociaciones inscritas en el Registro de Colaboradores de\n   Extranjería.\
	n\n  TRES VÍAS PARA SOLICITARLO (ELEGIR UNA):\n\n * Laboral: Oferta de con
	trato de trabajo o declaración responsable de negocio\n   propio.\n\n * Fa
	miliar: Acreditar unidad familiar con hijos menores o personas\n   dependi
	entes.\n\n * Vulnerabilidad: Informe social específico que acredite vulner
	abilidad (puede\n   emitirlo una ONG colaboradora).\n\nDOCUMENTACIÓN CLAVE
	\n\n * Identificación: Pasaporte o documento de identidad (caducado sirve)
	.\n\n * Permanencia en España: Cualquier prueba válida (empadronamiento\, 
	facturas\,\n   partes médicos\, formaciones\, etc.).\n\n * Antecedentes pe
	nales: En España lo recaba la Administración. En país de\n   origen: certi
	ficado oficial (si tarda más de 1 mes\, se puede solicitar ayuda\n   diplo
	mática).\n\nTodavía no nos hemos dado de alta como entidad colaboradora po
	r lo que no\npodemos emitir certificados de vulnerabilidad. Las asesorías 
	están pensadas para\nfacilitar la comunicación entre paisanos y ayudarnos 
	las unas a las otras en un\nespacio seguro.
URL:https://do.basspistol.org/event/asesorias-colectivas-proceso-regulariza
	cion-extraordinaria-1
GEO:40.388732;-3.666717
LOCATION:La Villana de Vallekas - Calle Sierra de alquife 12
STATUS:CONFIRMED
CATEGORIES:Madrid
X-ALT-DESC;FMTTYPE=text/html:<p>Entre todas nos ayudamos a reunir documenta
	ción y acceder al trámite de la solicitud de regularización extraordinaria
	 antes del 30 de junio.</p><h5>¿DÓNDE SOLICITARLO?</h5><ul><li><p><strong>
	Telemática</strong>: Plataforma ‘Mercurio’ (24/7) – necesita intermediario
	 si no tiene firma electrónica (<a target="_blank" href="https://www.sede.
	fnmt.gob.es/certificados/persona-fisica">¿qué es eso?</a>).</p></li><li><p
	><strong>Presencial:</strong> Oficinas habilitadas de Correos (372 oficina
	s), Seguridad Social (60 oficinas) y Extranjería (5 oficinas).</p></li><li
	><p><strong>Con apoyo de ONGs</strong> y asociaciones inscritas en el Regi
	stro de Colaboradores de Extranjería.</p></li></ul><h5>&nbsp; TRES VÍAS PA
	RA SOLICITARLO (elegir una):</h5><ul><li><p><strong>Laboral:</strong> Ofer
	ta de contrato de trabajo o declaración responsable de negocio propio.</p>
	</li><li><p><strong>Familiar</strong>: Acreditar unidad familiar con hijos
	 menores o personas dependientes.</p></li><li><p><strong>Vulnerabilidad</s
	trong>: Informe social específico que acredite vulnerabilidad (puede emiti
	rlo una ONG colaboradora).</p></li></ul><h5>DOCUMENTACIÓN CLAVE</h5><ul><l
	i><p><strong>Identificación</strong>: Pasaporte o documento de identidad (
	caducado sirve).</p></li><li><p><strong>Permanencia en España:</strong> Cu
	alquier prueba válida (empadronamiento, facturas, partes médicos, formacio
	nes, etc.).</p></li><li><p><strong>Antecedentes penales:</strong> En Españ
	a lo recaba la Administración. En país de origen: certificado oficial (si 
	tarda más de 1 mes, se puede solicitar ayuda diplomática).</p></li></ul><p
	>Todavía no nos hemos dado de alta como entidad colaboradora por lo que <s
	trong>no podemos emitir certificados de vulnerabilidad. </strong>Las aseso
	rías están pensadas para facilitar la comunicación entre paisanos y ayudar
	nos las unas a las otras en un espacio seguro.</p>
BEGIN:VALARM
ACTION:DISPLAY
DESCRIPTION:🫶 Asesorías colectivas Proceso Regularización Extraordinaria
TRIGGER:-PT1H
END:VALARM
END:VEVENT
END:VCALENDAR
