BEGIN:VCALENDAR
VERSION:2.0
CALSCALE:GREGORIAN
PRODID:adamgibbons/ics
METHOD:PUBLISH
X-PUBLISHED-TTL:PT1H
BEGIN:VEVENT
UID:13115@do.basspistol.org
SUMMARY:Assessoria col.lectiva especial per prorrogar els contractes de llo
	guer
DTSTAMP:20260421T004249Z
DTSTART:20260421T163000Z
DTEND:20260421T190000Z
DESCRIPTION:Si el teu lloguer acaba abans del 31 de desembre del 2027 això 
	t’interessa!\nPer a més info\, consulteu el nostre blog\n[https://blogs.si
	ndominio.net/lacinetika/2026/04/19/21-04-26-assessoria-col-lectiva-especia
	l-per-prorrogar-els-contractes-de-lloguer/].
URL:https://do.basspistol.org/event/assessoria-collectiva-especial-per-pror
	rogar-els-contractes-de-lloguer
GEO:41.4303043;2.188017
LOCATION:La Cinètika - 32\, Rambla de Fabra i Puig\, Sant Andreu\, Barcelon
	a\, 08030
STATUS:CONFIRMED
CATEGORIES:SantAndreu,SantAndreuDelPalomar,LaCinètika,Assessoria habitatge,
	SindicatHabitatge,Sindicat d’Habitatge de Sant Andreu,prorrogalloguers
X-ALT-DESC;FMTTYPE=text/html:<p>Si el teu lloguer acaba abans del 31 de des
	embre del 2027 això t’interessa! <br>Per a més info, <a href="https://blog
	s.sindominio.net/lacinetika/2026/04/19/21-04-26-assessoria-col-lectiva-esp
	ecial-per-prorrogar-els-contractes-de-lloguer/" target="_blank">consulteu 
	el nostre blog</a>.</p>
BEGIN:VALARM
ACTION:DISPLAY
DESCRIPTION:Assessoria col.lectiva especial per prorrogar els contractes de
	 lloguer
TRIGGER:-PT1H
END:VALARM
END:VEVENT
END:VCALENDAR
