BEGIN:VCALENDAR
VERSION:2.0
CALSCALE:GREGORIAN
PRODID:adamgibbons/ics
METHOD:PUBLISH
X-PUBLISHED-TTL:PT1H
BEGIN:VEVENT
UID:13138@do.basspistol.org
SUMMARY:CANTATA ANTIFA RIBELLULE
DTSTAMP:20260421T180840Z
DTSTART:20260423T180000Z
DESCRIPTION:CANTATA ANTIFA\n\nLe ribellule tornano invitandovi tuttə il 23 
	aprile dalle 20:00 ai giardini\nreali.\n\nIn una Torino sempre più repress
	iva ci prendiamo spazio\, portando alti i valori\ndella resistenza\, canta
	ndo e ridendo in faccia a chi vuole toglierci tutto e\nvorrebbe vederci di
	visə e solə!\n\n🥁Per questo ci troviamo per una cantata antifascista\, por
	ta la tua voce\, il tuo\nstrumento e unisciti a noi.\n\nInoltre vogliamo r
	iappropriarci di un freestyle che sia strumento politico\, ci\nsarà spazio
	 per le amə che vogliono sperimentare questa pratica artistica senza\nla p
	ressa machista.\n\nLascia a casa la performatività e porta presa bene.\n\n
	🌱Sarà presente un banchetto con qualcosa da mangiare e bere\, porta quello
	 che\nvorresti trovare!\n\n💅🏼Troverete un telo con diversi vestiti per uno 
	swap party autogestito.\n\nFanculo machi\, fasci e guardie\n\nORA E SEMPRE
	 RESISTENZA! ✊💓\n\nVi aspettiamo!!
URL:https://do.basspistol.org/event/cantata-antifa-ribellule
LOCATION:Giardini Reali - Torino - Giardini Reali
STATUS:CONFIRMED
CATEGORIES:
X-ALT-DESC;FMTTYPE=text/html:<p>CANTATA ANTIFA </p><p>Le ribellule tornano 
	invitandovi tuttə il 23 aprile dalle 20:00 ai giardini reali.</p><p>In una
	 Torino sempre più repressiva ci prendiamo spazio, portando alti i valori 
	della resistenza, cantando e ridendo in faccia a chi vuole toglierci tutto
	 e vorrebbe vederci divisə e solə! </p><p>🥁Per questo ci troviamo per una 
	cantata antifascista, porta la tua voce, il tuo strumento e unisciti a noi
	. </p><p>Inoltre vogliamo riappropriarci di un freestyle che sia strumento
	 politico, ci sarà spazio per le amə che vogliono sperimentare questa prat
	ica artistica senza la pressa machista. </p><p>Lascia a casa la performati
	vità e porta presa bene.</p><p>🌱Sarà presente un banchetto con qualcosa da
	 mangiare e bere, porta quello che vorresti trovare!</p><p>💅🏼Troverete un t
	elo con diversi vestiti per uno swap party autogestito.</p><p>Fanculo mach
	i, fasci e guardie</p><p>ORA E SEMPRE RESISTENZA! ✊💓</p><p>Vi aspettiamo!!
	</p>
BEGIN:VALARM
ACTION:DISPLAY
DESCRIPTION:CANTATA ANTIFA RIBELLULE
TRIGGER:-PT1H
END:VALARM
END:VEVENT
END:VCALENDAR
