BEGIN:VCALENDAR
VERSION:2.0
CALSCALE:GREGORIAN
PRODID:adamgibbons/ics
METHOD:PUBLISH
X-PUBLISHED-TTL:PT1H
BEGIN:VEVENT
UID:13101@do.basspistol.org
SUMMARY:Come far saltare un oleodotto
DTSTAMP:20260420T233021Z
DTSTART:20260516T140000Z
DTEND:20260516T160000Z
DESCRIPTION:Il secondo incontro dell’XR Book Club è dedicato a "Come fare 
	saltare un\noleodotto" di Andreas Malm: un testo provocatorio ma necessari
	o che ci interroga\nsulle strategie della lotta climatica in un contesto d
	i emergenza ecologica.\n\n📅 16 maggio — ore 16.00\n\nNei prossimi incontri
	 continueremo a esplorare insieme pratiche\, idee e visioni\nper costruire
	 alternative concrete.\n\nIl Book Club è uno spazio orizzontale e aperto:
	 scrivici a\nxrbookclub.bologna@gmail.com e iscriviti alla newsletter!\n\n
	Ci vediamo il 16 maggio a Fondo Comini!
URL:https://do.basspistol.org/event/comefarsaltareunoleodotto
GEO:44.5154;11.342
LOCATION:Casa di Quartiere Fondo Comini - 68\, Via Aristotile Fioravanti\, 
	Arcoveggio\, Navile\, Bologna\, Emilia-Romagna\, 40129\, Italia
STATUS:CONFIRMED
CATEGORIES:emergenza ecologica,xr book club
X-ALT-DESC;FMTTYPE=text/html:<p>Il secondo incontro dell’XR Book Club è de
	dicato a "Come fare saltare un oleodotto" di Andreas Malm: un testo provoc
	atorio ma necessario che ci interroga sulle strategie della lotta climatic
	a in un contesto di emergenza ecologica.</p><p>📅 16 maggio — ore 16.00</p>
	<p>Nei prossimi incontri continueremo a esplorare insieme pratiche, idee e
	 visioni per costruire alternative concrete.</p><p>Il Book Club è uno spa
	zio orizzontale e aperto: scrivici a xrbookclub.bologna@gmail.com e iscriv
	iti alla newsletter!</p><p>Ci vediamo il 16 maggio a Fondo Comini! </p>
BEGIN:VALARM
ACTION:DISPLAY
DESCRIPTION:Come far saltare un oleodotto
TRIGGER:-PT1H
END:VALARM
END:VEVENT
END:VCALENDAR
