BEGIN:VCALENDAR
VERSION:2.0
CALSCALE:GREGORIAN
PRODID:adamgibbons/ics
METHOD:PUBLISH
X-PUBLISHED-TTL:PT1H
BEGIN:VEVENT
UID:13160@do.basspistol.org
SUMMARY:Concert punk: Nagasaki Sunrise\, Dominación\, Kadaver\, Yrascible i
	 Defugi
DTSTAMP:20260422T094158Z
DTSTART:20260425T170000Z
URL:https://do.basspistol.org/event/concert-punk-nagasaki-sunrise-dominacio
	n-kadaver-yrascible-i-defugi
GEO:41.4469745;2.1902067
LOCATION:Rock and Trini - Vía Favencia\, 441\, Barcelona
STATUS:CONFIRMED
CATEGORIES:concert,punk,LaTrini
BEGIN:VALARM
ACTION:DISPLAY
DESCRIPTION:Concert punk: Nagasaki Sunrise, Dominación, Kadaver, Yrascible 
	i Defugi
TRIGGER:-PT1H
END:VALARM
END:VEVENT
END:VCALENDAR
