BEGIN:VCALENDAR
VERSION:2.0
CALSCALE:GREGORIAN
PRODID:adamgibbons/ics
METHOD:PUBLISH
X-PUBLISHED-TTL:PT1H
BEGIN:VEVENT
UID:13134@do.basspistol.org
SUMMARY:“CONTRO IL MILITARISMO E CONTRO LA GUERRA”  Presentazione Opuscolo 
	del 1947
DTSTAMP:20260421T161418Z
DTSTART:20260515T160000Z
DTEND:20260515T190000Z
DESCRIPTION:dulce bellum inexpertis (la guerra è dolce per quelli che non l
	’hanno\nsperimentata). Quando i cannoni tuonano\, i proiettili fischiano\,
	 quando le\nschegge dilaniano corpi inermi\, quando i civili disarmati ven
	gono brutalmente\nuccisi quello è il vero volto della guerra.
URL:https://do.basspistol.org/event/contro-il-militarismo-e-contro-la-guerr
	a-presentazione-opuscolo-del-1947
GEO:44.5154;11.342
LOCATION:Casa di Quartiere Fondo Comini - 68\, Via Aristotile Fioravanti\, 
	Arcoveggio\, Navile\, Bologna\, Emilia-Romagna\, 40129\, Italia
STATUS:CONFIRMED
CATEGORIES:
X-ALT-DESC;FMTTYPE=text/html:<p><em>dulce bellum inexpertis</em> (la guerra
	 è dolce per quelli che non l’hanno sperimentata). Quando i cannoni tuonan
	o, i proiettili fischiano, quando le schegge dilaniano corpi inermi, quand
	o i civili disarmati vengono brutalmente uccisi quello è il vero volto del
	la guerra.</p>
BEGIN:VALARM
ACTION:DISPLAY
DESCRIPTION:“CONTRO IL MILITARISMO E CONTRO LA GUERRA”  Presentazione Opusc
	olo del 1947
TRIGGER:-PT1H
END:VALARM
END:VEVENT
END:VCALENDAR
