BEGIN:VCALENDAR
VERSION:2.0
CALSCALE:GREGORIAN
PRODID:adamgibbons/ics
METHOD:PUBLISH
X-PUBLISHED-TTL:PT1H
BEGIN:VEVENT
UID:13070@do.basspistol.org
SUMMARY:Documental: «Palestina una tragedia permanente»
DTSTAMP:20260420T010218Z
DTSTART:20260423T170000Z
DTEND:20260423T193000Z
DESCRIPTION:«Palestina: una tragedia permanente» narra la tragedia del pueb
	lo palestino a lo\nlargo de la historia\, ahondando especialmente en el pe
	ríodo que va de octubre de\n2023 a nuestros días.
URL:https://do.basspistol.org/event/documental-palestina-una-tragedia-perma
	nente-1
GEO:40.38897;-3.74569
LOCATION:Ateneo Libertario Carabanchel-Latina (ESLA Eko. 2ª planta Ateneo) 
	- Ateneo Libertario Carabanchel-Latina (ESLA Eko. 2ª planta Ateneo)
STATUS:CONFIRMED
CATEGORIES:Palestina,documental,Madrid,tragedia
X-ALT-DESC;FMTTYPE=text/html:<p>«<strong>Palestina</strong>: <strong>una</s
	trong> <strong>tragedia</strong> <strong>permanente</strong>» narra la <st
	rong>tragedia</strong> del pueblo palestino a lo largo de la historia, aho
	ndando especialmente en el período que va de octubre de 2023 a nuestros dí
	as.</p>
BEGIN:VALARM
ACTION:DISPLAY
DESCRIPTION:Documental: «Palestina una tragedia permanente»
TRIGGER:-PT1H
END:VALARM
END:VEVENT
END:VCALENDAR
