BEGIN:VCALENDAR
VERSION:2.0
CALSCALE:GREGORIAN
PRODID:adamgibbons/ics
METHOD:PUBLISH
X-PUBLISHED-TTL:PT1H
BEGIN:VEVENT
UID:13169@do.basspistol.org
SUMMARY:El Sotrac fa paradeta de llibres de Sant Jordi   Aquest Sant Jordi\
	, com cada any\, El Sotrac\, la biblioteca crítica\, surt al carrer i tind
	rà paradeta de llibres davant de La Cinètika!   Ens trobareu el dijous 23 
	d'abril entre les 15h i les 20.30h com sempre. Hi haurà una gran selecció 
	de literatura crítica d'assaig\, infantil\, narrativa i també tindrem còpi
	es del llibre editat recentment fruit del concurs de relats Narra Karcelon
	a.   Veniu a donar suport a l'autogestió del projecte\, a xerrar i a reivi
	ndicar el Sant Jordi popular!
DTSTAMP:20260422T205419Z
DTSTART:20260423T130000Z
DTEND:20260423T193000Z
DESCRIPTION:Aquest Sant Jordi\, com cada any\, El Sotrac\, la biblioteca cr
	ítica\, surt al\ncarrer i tindrà paradeta de llibres davant de La Cinètika
	! Ens trobareu el\ndijous 23 d'abril entre les 15h i les 20.30h com sempre
	. Hi haurà una gran\nselecció de literatura crítica d'assaig\, infantil\, 
	narrativa i també tindrem\ncòpies del llibre editat recentment fruit del c
	oncurs de relats Narra Karcelona.\nVeniu a donar suport a l'autogestió del
	 projecte\, a xerrar i a reivindicar el\nSant Jordi popular!
URL:https://do.basspistol.org/event/el-sotrac-fa-paradeta-de-llibres-de-san
	t-jordi-aquest-sant-jordi-com-cada-any-el-sotrac-la-biblioteca-critica-sur
	t-al-carrer-i-tindra-paradeta-de-llibres-davant-de-la-cinetika-ens-trobare
	u-el-dijous-23-dabril-entre-les-15h-i-les-2030h-com-sempre-hi-haura-una-gr
	an-seleccio-de-literatura-critica-dassaig-infantil-narrativa-i-tambe-tindr
	em-copies-del-llibre-editat-recentment-fruit-del-concurs-de-relats-narra-k
	arcelona-veniu-a-donar-suport-a-lautogestio-del-projecte-a-xerrar-i-a-reiv
	indicar-el-sant-jordi-popular
GEO:41.4303043;2.188017
LOCATION:La Cinètika - 32\, Rambla de Fabra i Puig\, Sant Andreu\, Barcelon
	a\, 08030
STATUS:CONFIRMED
CATEGORIES:autogestió,presentacióLlibre,anarquisme,SantAndreuDelPalomar,fir
	a de llibres,SantJordi,llibre
X-ALT-DESC;FMTTYPE=text/html:<p>Aquest Sant Jordi, com cada any, El Sotrac,
	 la biblioteca crítica, surt al carrer i tindrà paradeta de llibres davant
	 de La Cinètika!   Ens trobareu el dijous 23 d'abril entre les 15h i les 2
	0.30h com sempre. Hi haurà una gran selecció de literatura crítica d'assai
	g, infantil, narrativa i també tindrem còpies del llibre editat recentment
	 fruit del concurs de relats Narra Karcelona.   Veniu a donar suport a l'a
	utogestió del projecte, a xerrar i a reivindicar el Sant Jordi popular!</p
	>
BEGIN:VALARM
ACTION:DISPLAY
DESCRIPTION:El Sotrac fa paradeta de llibres de Sant Jordi   Aquest Sant Jo
	rdi, com cada any, El Sotrac, la biblioteca crítica, surt al carrer i tind
	rà paradeta de llibres davant de La Cinètika!   Ens trobareu el dijous 23 
	d'abril entre les 15h i les 20.30h com sempre. Hi haurà una gran selecció 
	de literatura crítica d'assaig, infantil, narrativa i també tindrem còpies
	 del llibre editat recentment fruit del concurs de relats Narra Karcelona.
	   Veniu a donar suport a l'autogestió del projecte, a xerrar i a reivindi
	car el Sant Jordi popular!
TRIGGER:-PT1H
END:VALARM
END:VEVENT
END:VCALENDAR
