BEGIN:VCALENDAR
VERSION:2.0
CALSCALE:GREGORIAN
PRODID:adamgibbons/ics
METHOD:PUBLISH
X-PUBLISHED-TTL:PT1H
BEGIN:VEVENT
UID:13096@do.basspistol.org
SUMMARY:Girovelle psicotroniche
DTSTAMP:20260420T200648Z
DTSTART:20260425T190000Z
DESCRIPTION:Dopo il book club femminista su L’Agnese va a morire e la passe
	ggiata\nantifascista con ANPI\, chiudiamo noi la settimana del Casalone ve
	rso la Festa\ndella Liberazione facendovi ballare.\n\nTre appuntamenti div
	ersi\, nel segno della memoria\, dell’antifascismo e della\nsocialità.\n\
	nContro i vecchi e i nuovi fascismi\, produciamo politica\, cultura e musi
	ca\n\nGirovelle Psicotroniche\n\n25 Aprile 2026\n\ndalle 21.00\n\n\n\n✧✧ S
	ALA 1 ✧✧\n\nBech\n\nGorb\n\nFlaw\n\n✧✧ SALA 2 ✧✧\n\n(Bass Music)\n\nColmip
	edro (world music)\n\nNostromo Chaoj\n\ntabache\n\nMarco Upset\n\n✺ Se qua
	lcosa non va rivolgiti all’ingresso o al bar\n\n✺ Ingresso 5€ riservato ai
	 soci e alle socie ARCI
URL:https://do.basspistol.org/event/girovelle
GEO:44.5075;11.3771
LOCATION:Il Casalone - 149\, Via San Donato\, San Donato\, San Donato-San V
	itale\, San Nicolò di Villola\, Bologna\, Emilia-Romagna\, 40127\, Italia
STATUS:CONFIRMED
CATEGORIES:musica
X-ALT-DESC;FMTTYPE=text/html:<p>Dopo il book club femminista su <em>L’Agnes
	e va a morire</em> e la passeggiata antifascista con ANPI, chiudiamo noi l
	a settimana del Casalone verso la Festa della Liberazione facendovi ballar
	e.</p><p>Tre appuntamenti diversi, nel segno della memoria, dell’antifasci
	smo e della socialità.</p><p>Contro i vecchi e i nuovi fascismi, producia
	mo politica, cultura e musica</p><p>Girovelle Psicotroniche</p><p>25 April
	e 2026</p><p>dalle 21.00</p><p></p><p>✧✧ SALA 1 ✧✧</p><p>Bech</p><p>Gorb</
	p><p>Flaw</p><p>✧✧ SALA 2 ✧✧</p><p>(Bass Music)</p><p>Colmipedro (world mu
	sic)</p><p>Nostromo Chaoj</p><p>tabache</p><p>Marco Upset</p><p>✺ Se qualc
	osa non va rivolgiti all’ingresso o al bar</p><p>✺ Ingresso 5€ riservato a
	i soci e alle socie ARCI </p>
BEGIN:VALARM
ACTION:DISPLAY
DESCRIPTION:Girovelle psicotroniche
TRIGGER:-PT1H
END:VALARM
END:VEVENT
END:VCALENDAR
