BEGIN:VCALENDAR
VERSION:2.0
CALSCALE:GREGORIAN
PRODID:adamgibbons/ics
METHOD:PUBLISH
X-PUBLISHED-TTL:PT1H
BEGIN:VEVENT
UID:13065@do.basspistol.org
SUMMARY:Il diario di Ada
DTSTAMP:20260419T231458Z
DTSTART:20260425T190000Z
DTEND:20260425T210000Z
DESCRIPTION:Lettura spettacolo a cura del Collettivo Teatro NO!\n\n"Dedico 
	questi ricordi ai miei amici: vicini e lontani\; di vent'anni e di un'ora\
	nsola. Perché proprio l'amicizia - legame di solidarietà\, fondato non su\
	ncomunanza di sangue\, né di patria\, né di tradizione intellettuale\, ma 
	sul\nsemplice rapporto umano del sentirsi uno con uno tra i molti - m'è\np
	arso il significato intimo\, il segno della nostra battaglia. E' forse lo 
	è\nstato veramente. E soltanto se riusciremo a salvarla\, a perfezionarla 
	o a\nricrearla al disopra di tanti errori e di tanti smarrimenti\, se\nriu
	sciremo a capire che questa unità \, quest'amicizia non è stata e non\ndev
	'essere\nun mezzo per aggiungere qualche altra cosa\, ma è un valore in se
	 stessa\, perchè\nin essa forse è il senso dell'uomo - soltanto allora pot
	remo ripensare al nostro\npassato e rivedere il volto dei nostri amici\, v
	ivi e morti\, senza malinconia e\nsenza disperazione."\n\n\n\nAda Prospero
	 Marchesini Gobetti
URL:https://do.basspistol.org/event/il-diario-di-ada
LOCATION:Teatro Vecchio Mercato - Gassino Torinese - piazza Sampieri
STATUS:CONFIRMED
CATEGORIES:
X-ALT-DESC;FMTTYPE=text/html:<p>Lettura spettacolo a cura del Collettivo Te
	atro NO! </p><p>"Dedico questi ricordi ai miei amici: vicini e lontani; di
	 vent'anni e di un'ora sola. Perché proprio l'amicizia - legame di solidar
	ietà, fondato non su comunanza di sangue, né di patria, né di tradizione i
	ntellettuale, ma sul semplice rapporto umano del sentirsi uno con uno tra 
	i molti - m'è<br>parso il significato intimo, il segno della nostra battag
	lia. E' forse lo è stato veramente. E soltanto se riusciremo a salvarla, a
	 perfezionarla o a ricrearla al disopra di tanti errori e di tanti smarrim
	enti, se<br>riusciremo a capire che questa unità , quest'amicizia non è st
	ata e non dev'essere<br>un mezzo per aggiungere qualche altra cosa, ma è u
	n valore in se stessa, perchè in essa forse è il senso dell'uomo - soltant
	o allora potremo ripensare al nostro passato e rivedere il volto dei nostr
	i amici, vivi e morti, senza malinconia e senza disperazione."<br><br></p>
	<p><strong>Ada Prospero Marchesini Gobetti</strong></p>
BEGIN:VALARM
ACTION:DISPLAY
DESCRIPTION:Il diario di Ada
TRIGGER:-PT1H
END:VALARM
END:VEVENT
END:VCALENDAR
