BEGIN:VCALENDAR
VERSION:2.0
CALSCALE:GREGORIAN
PRODID:adamgibbons/ics
METHOD:PUBLISH
X-PUBLISHED-TTL:PT1H
BEGIN:VEVENT
UID:13236@do.basspistol.org
SUMMARY:Jornada Contra el Trabajo
DTSTAMP:20260424T155526Z
DTSTART:20260523T133000Z
DTEND:20260523T203000Z
DESCRIPTION:Jornada Contra el Trabajo\n\nEspacio de charlas\, debate y refl
	exión de la mano de Abajo el Trabajo.\n\n
URL:https://do.basspistol.org/event/jornada-contra-el-trabajo
GEO:40.40945;-3.70965
LOCATION:CSO La Rosa - Calle Bastero 1
STATUS:CONFIRMED
CATEGORIES:taller,Madrid,anarquismo,Charlas,Jornada,trabajo
X-ALT-DESC;FMTTYPE=text/html:<p>Jornada Contra el Trabajo</p><p>Espacio de 
	charlas, debate y reflexión de la mano de Abajo el Trabajo.</p><p></p>
BEGIN:VALARM
ACTION:DISPLAY
DESCRIPTION:Jornada Contra el Trabajo
TRIGGER:-PT1H
END:VALARM
END:VEVENT
END:VCALENDAR
