BEGIN:VCALENDAR
VERSION:2.0
CALSCALE:GREGORIAN
PRODID:adamgibbons/ics
METHOD:PUBLISH
X-PUBLISHED-TTL:PT1H
BEGIN:VEVENT
UID:13090@do.basspistol.org
SUMMARY:Jornada de portes obertes al csoa l'Horta 🌻🌿🏡
DTSTAMP:20260420T170948Z
DTSTART:20260422T160000Z
DTEND:20260422T203000Z
DESCRIPTION:Encara no coneixes el CSOA l'Horta?\nAquest dimecres vine a exp
	lorar aquest raconet verd del barri\, t'esperem!\n\n18.00h Merendola\, vis
	ita guiada\, contacontes en la biblioteca\, espai xicalla\n18.30h Postisse
	s\, taller de balls populars\n19.00h Fighting Club\, taller de Muay Thai\n
	21.15h Teatro foro de ImproAlParque
URL:https://do.basspistol.org/event/jornada-de-portes-obertes-al-csoa-lhort
	a
GEO:39.487;-0.3537
LOCATION:CSOA L'Horta - al final del Carrer de Diógenes Lopez Mecho junt a 
	la Plaça Tretze Roses
STATUS:CONFIRMED
CATEGORIES:valència,valencia
X-ALT-DESC;FMTTYPE=text/html:<p>Encara no coneixes el CSOA l'Horta?<br>Aque
	st dimecres vine a explorar aquest raconet verd del barri, t'esperem!<br><
	br>18.00h Merendola, visita guiada, contacontes en la biblioteca, espai xi
	calla<br>18.30h Postisses, taller de balls populars<br>19.00h Fighting Clu
	b, taller de Muay Thai<br>21.15h Teatro foro de ImproAlParque</p>
BEGIN:VALARM
ACTION:DISPLAY
DESCRIPTION:Jornada de portes obertes al csoa l'Horta 🌻🌿🏡
TRIGGER:-PT1H
END:VALARM
END:VEVENT
END:VCALENDAR
