BEGIN:VCALENDAR
VERSION:2.0
CALSCALE:GREGORIAN
PRODID:adamgibbons/ics
METHOD:PUBLISH
X-PUBLISHED-TTL:PT1H
BEGIN:VEVENT
UID:13243@do.basspistol.org
SUMMARY:LVZ SILENCIOSA + BABY JANE + PERLA NEGRA
DTSTAMP:20260424T183823Z
DTSTART:20260425T193000Z
URL:https://do.basspistol.org/event/lvz-silenciosa-baby-jane-perla-negra
GEO:41.4113735;2.1532115
LOCATION:Kasa de la muntanya - Av. del Santuari de Sant Josep de la muntany
	a
STATUS:CONFIRMED
CATEGORIES:concert,punk,noise,Gràcia,LaSalut
BEGIN:VALARM
ACTION:DISPLAY
DESCRIPTION:LVZ SILENCIOSA + BABY JANE + PERLA NEGRA
TRIGGER:-PT1H
END:VALARM
END:VEVENT
END:VCALENDAR
