BEGIN:VCALENDAR
VERSION:2.0
CALSCALE:GREGORIAN
PRODID:adamgibbons/ics
METHOD:PUBLISH
X-PUBLISHED-TTL:PT1H
BEGIN:VEVENT
UID:13137@do.basspistol.org
SUMMARY:matinee punk
DTSTAMP:20260421T180729Z
DTSTART:20260510T160000Z
DTEND:20260510T215500Z
DESCRIPTION:si inizia presto si finisce presto! Start H18!\nUna band dagli 
	u.s.a devastante SCIENCE MAN! leggetevi e ascoltatevi un\npò di recensioni
	 fatte da Maximum ROCK'N'ROLL!\nhttps://www.maximumrocknroll.com/band/scie
	nce-man/\n[https://www.maximumrocknroll.com/band/science-man/]\ncon loro 2
	 nuove bands della scena torinese! direttamente dalle sale\nprove del Mezc
	al Squat\nTAGLIO & ECOTERRORISMO\n\nprima durante dopo djset cold-wave-got
	h-synth by Stanze Fredde!
URL:https://do.basspistol.org/event/matinee-punk
GEO:45.0858958;7.6818891
LOCATION:Radio Blackout 105.250 - Via Cecchi 21/a\, Torino
STATUS:CONFIRMED
CATEGORIES:benefit blackout,punk-rock
X-ALT-DESC;FMTTYPE=text/html:<p>si inizia presto si finisce presto! Start H
	18!<br>Una band dagli u.s.a devastante SCIENCE MAN! leggetevi e ascoltatev
	i un<br>pò di recensioni fatte da Maximum ROCK'N'ROLL!<br><a target="_blan
	k" href="https://www.maximumrocknroll.com/band/science-man/">https://www.m
	aximumrocknroll.com/band/science-man/</a><br>con loro 2 nuove bands della 
	scena torinese! direttamente dalle sale<br>prove del Mezcal Squat<br>TAGLI
	O &amp; ECOTERRORISMO<br><br>prima durante dopo djset cold-wave-goth-synth
	 by Stanze Fredde!</p>
BEGIN:VALARM
ACTION:DISPLAY
DESCRIPTION:matinee punk
TRIGGER:-PT1H
END:VALARM
END:VEVENT
END:VCALENDAR
