BEGIN:VCALENDAR
VERSION:2.0
CALSCALE:GREGORIAN
PRODID:adamgibbons/ics
METHOD:PUBLISH
X-PUBLISHED-TTL:PT1H
BEGIN:VEVENT
UID:13192@do.basspistol.org
SUMMARY:PER LA RASSEGNA GIOVEDÌ GUERRA PROIEZIONE DEL FILM PERSEPOLIS
DTSTAMP:20260423T120408Z
DTSTART:20260430T190000Z
DESCRIPTION:PERSEPOLIS di Marjane Satrapi\, Vincent Paronnaud\, Francia\, 2
	007\, 95 minuti\n\nDa bambina\, Marjane comprende poco del tumulto che la 
	circonda. A otto anni\,\nquando la rivoluzione islamica sostituisce lo Sci
	à con una teocrazia\, la sua\nreazione divertita alla rapida trasformazion
	e della società iraniana riflette la\nposizione politica dei suoi genitori
	\, i cui sogni sulla cacciata dello Scià si\nsgretolano di fronte al regim
	e repressivo che lo sostituisce. Come la madre e\,\nsoprattutto\, come la 
	nonna imperiosa e sboccata\, Marjane è una ragazza caparbia\,\nche non si 
	rassegna ai dettami della legge islamica\, almeno non senza\ncombattere. D
	a adolescente\, sfoggia una giacca di pelle con la scritta “Punk Is\nNot D
	ead” sul retro e a scuola ostenta con orgoglio i suoi dischi di\ncontrabba
	ndo degli ABBA. Persepolis deve gran parte del suo fascino allo spirito\nr
	ibelle della sua protagonista. Le immagini inquietanti dei vicini torturat
	i\ndalla polizia segreta sono compensate dalla vista della giovane Marjane
	 che\nsuona la chitarra con la racchetta da tennis ascoltando una cassetta
	 degli Iron\nMaiden. Quando la situazione in Iran peggiora e il temperamen
	to di Marjane si fa\nsempre più irritabile\, i suoi genitori la mandano a 
	Vienna\, dove entra in\ncontatto con un gruppo di sedicenti bohémien. Sebb
	ene non abbiano l’importanza\nstorica delle scene ambientate in Iran\, le 
	sequenze viennesi del film sono per\ncerti versi le più incisive\, forse p
	erché la prospettiva di Satrapi adulta vi\ninterviene maggiormente. Persep
	olis attesta anche il ruolo delle narrazioni\ndiasporiche nel cuore della 
	cultura francese. Che lo faccia senza rivendicare\nuna statura epocale è p
	arte della sua forza.\n\nSi attraversa d'un fiato tutta la storia moderna 
	dell'Iran\, dal 1978 ad oggi\,\ncon Persepolis\, film d'animazione molto p
	articolare che\, di fatto\, è la\ntrasposizione animata dell'omonima comic
	 strip ideata e disegnata dall'artista\nMarjane Satrapi\, che del film è a
	nche regista insieme a Vincent Paronnaud. È la\nstoria autobiografica di u
	na bambina nel momento in cui la rivoluzione porta\nalla caduta dello scià
	\, non senza violenza e sangue sparsi sulle strade. Ma il\nracconto è anco
	ra all'inizio e gli occhi della piccola Marji non si spingono\nfino alla p
	iazza dei massacri e alle sue orecchie non arrivano ancora le notizie\ndi 
	tanta sofferenza. Per lei la lotta in nome di libertà e uguaglianza\nrappr
	esenta un momento esaltante di crescita e conoscenza\, e tutto il resto\nr
	imane fuori campo o si insinua nell'immagine come fosse un bagliore o un s
	uono\nsinistro ma velato\, anche se dirompente. L'instaurazione della nuov
	a Repubblica\nIslamica\, però\, delude tutte le aspettative ei prigionieri
	 politici che sono\nusciti dal carcere stanno per farvi ritorno.\n\n
URL:https://do.basspistol.org/event/per-la-rassegna-giovedi-guerra-proiezio
	ne-del-film-persepolis
GEO:45.02343145;7.65609886065984
LOCATION:El Paso Occupato - Via Passo Buole\, 47\, Torino
STATUS:CONFIRMED
CATEGORIES:
X-ALT-DESC;FMTTYPE=text/html:<p>PERSEPOLIS di Marjane Satrapi, Vincent Paro
	nnaud, Francia, 2007, 95 minuti</p><p>Da bambina, Marjane comprende poco d
	el tumulto che la circonda. A otto anni, quando la rivoluzione islamica so
	stituisce lo Scià con una teocrazia, la sua reazione divertita alla rapida
	 trasformazione della società iraniana riflette la posizione politica dei 
	suoi genitori, i cui sogni sulla cacciata dello Scià si sgretolano di fron
	te al regime repressivo che lo sostituisce. Come la madre e, soprattutto, 
	come la nonna imperiosa e sboccata, Marjane è una ragazza caparbia, che no
	n si rassegna ai dettami della legge islamica, almeno non senza combattere
	. Da adolescente, sfoggia una giacca di pelle con la scritta “Punk Is Not 
	Dead” sul retro e a scuola ostenta con orgoglio i suoi dischi di contrabba
	ndo degli ABBA. Persepolis deve gran parte del suo fascino allo spirito ri
	belle della sua protagonista. Le immagini inquietanti dei vicini torturati
	 dalla polizia segreta sono compensate dalla vista della giovane Marjane c
	he suona la chitarra con la racchetta da tennis ascoltando una cassetta de
	gli Iron Maiden. Quando la situazione in Iran peggiora e il temperamento d
	i Marjane si fa sempre più irritabile, i suoi genitori la mandano a Vienna
	, dove entra in contatto con un gruppo di sedicenti bohémien. Sebbene non 
	abbiano l’importanza storica delle scene ambientate in Iran, le sequenze v
	iennesi del film sono per certi versi le più incisive, forse perché la pro
	spettiva di Satrapi adulta vi interviene maggiormente. Persepolis attesta 
	anche il ruolo delle narrazioni diasporiche nel cuore della cultura france
	se. Che lo faccia senza rivendicare una statura epocale è parte della sua 
	forza.</p><p>Si attraversa d'un fiato tutta la storia moderna dell'Iran, d
	al 1978 ad oggi, con Persepolis, film d'animazione molto particolare che, 
	di fatto, è la trasposizione animata dell'omonima comic strip ideata e dis
	egnata dall'artista Marjane Satrapi, che del film è anche regista insieme 
	a Vincent Paronnaud. È la storia autobiografica di una bambina nel momento
	 in cui la rivoluzione porta alla caduta dello scià, non senza violenza e 
	sangue sparsi sulle strade. Ma il racconto è ancora all'inizio e gli occhi
	 della piccola Marji non si spingono fino alla piazza dei massacri e alle 
	sue orecchie non arrivano ancora le notizie di tanta sofferenza. Per lei l
	a lotta in nome di libertà e uguaglianza rappresenta un momento esaltante 
	di crescita e conoscenza, e tutto il resto rimane fuori campo o si insinua
	 nell'immagine come fosse un bagliore o un suono sinistro ma velato, anche
	 se dirompente. L'instaurazione della nuova Repubblica Islamica, però, del
	ude tutte le aspettative ei prigionieri politici che sono usciti dal carce
	re stanno per farvi ritorno.</p><p></p>
BEGIN:VALARM
ACTION:DISPLAY
DESCRIPTION:PER LA RASSEGNA GIOVEDÌ GUERRA PROIEZIONE DEL FILM PERSEPOLIS
TRIGGER:-PT1H
END:VALARM
END:VEVENT
END:VCALENDAR
