BEGIN:VCALENDAR
VERSION:2.0
CALSCALE:GREGORIAN
PRODID:adamgibbons/ics
METHOD:PUBLISH
X-PUBLISHED-TTL:PT1H
BEGIN:VEVENT
UID:13091@do.basspistol.org
SUMMARY:Presentació de l'exposició i del llibre 'Trabajo para alquilar'
DTSTAMP:20260420T171741Z
DTSTART:20260429T163000Z
DESCRIPTION:Des del 28 d'abril fins al 10 de maig\, a la primera planta del
	 Bloc 11 de Can\nBatlló (a sobre del bar)\, podreu visitar l'exposició de 
	cartelleria de Casa De\nBalneario\, un projecte d’il·lustració i activisme
	 gràfic que combina art urbà\,\nintervenció i edició\, abordant temes com 
	el treball\, els diners\, el consumisme i\nel cost dels lloguers.\n\nI el 
	29 d'abril\, les artistes ens visiten per presentar l'exposició i el seu\n
	llibre d'autor [https://descontrol.cat/portfolio/trabajo-para-alquilar/].\
	n\n📅 Dimecres\, 29 d'abril\n\n🕡 18:30 h\n\n📍 Can Batlló (Bloc 11\, Planta 
	1) - C/ de la Constitució\, 11
URL:https://do.basspistol.org/event/presentacio-de-lexposicio-i-del-llibre-
	trabajo-para-alquilar
GEO:41.3692405;2.1370339
LOCATION:Can Batlló - 19\, Carrer de la Constitució\, la Bordeta\, Barcelon
	a\, 08014
STATUS:CONFIRMED
CATEGORIES:presentació de llibre
X-ALT-DESC;FMTTYPE=text/html:<p>Des del 28 d'abril fins al 10 de maig, a la
	 primera planta del Bloc 11 de Can Batlló (a sobre del bar), podreu visita
	r l'exposició de cartelleria de Casa De Balneario, un projecte d’il·lustra
	ció i activisme gràfic que combina art urbà, intervenció i edició, abordan
	t temes com el treball, els diners, el consumisme i el cost dels lloguers.
	</p><p>I el 29 d'abril, les artistes ens visiten per presentar l'exposició
	 i el seu <a target="_blank" href="https://descontrol.cat/portfolio/trabaj
	o-para-alquilar/">llibre d'autor</a>.</p><p>📅 Dimecres, 29 d'abril</p><p>🕡
	 18:30 h</p><p>📍 Can Batlló (Bloc 11, Planta 1) - C/ de la Constitució, 11
	</p>
BEGIN:VALARM
ACTION:DISPLAY
DESCRIPTION:Presentació de l'exposició i del llibre 'Trabajo para alquilar'
TRIGGER:-PT1H
END:VALARM
END:VEVENT
END:VCALENDAR
