BEGIN:VCALENDAR
VERSION:2.0
CALSCALE:GREGORIAN
PRODID:adamgibbons/ics
METHOD:PUBLISH
X-PUBLISHED-TTL:PT1H
BEGIN:VEVENT
UID:13087@do.basspistol.org
SUMMARY:Presentació del llibre: “3 de Marzo. Huelga\, masacre y memoria”
DTSTAMP:20260420T144113Z
DTSTART:20260427T170000Z
DTEND:20260427T184500Z
DESCRIPTION:dilluns 27 d’abril a les 19 h al Lokal C/ de la Cera 1 local 4.
	\n\nPresentació del llibre: 3 de Mazo: Huelga\, masacre y memoria\n\namb l
	’autor: Jon Martínez Larrea\n\nEl 3 de marzo de 1976 la policía mató a cin
	co trabajadores cuando intentaban\ncelebrar una asamblea en Gasteiz. La ci
	udad se encontraba en pleno proceso de\ntransformación y aquel suceso supu
	so un punto de inflexión. Para comprender la\nmasacre\, sin embargo\, es n
	ecesario conocer los pormenores de la huelga\ndesarrollada durante los dos
	 meses anteriores: los antecedentes\, la\nconcienciación obrera y el esque
	ma asambleario basado en las Comisiones\nRepresentativas. Un proceso que\,
	 para muchas personas\, significó un rápido\nproceso de empoderamiento\, e
	specialmente en el caso de las mujeres.\n\nLa masacre de Gasteiz desmiente
	 el mito de la Transición pacífica y\, además de\nevidenciar la impunidad 
	de la violencia policial\, demuestra que existieron\nalternativas democrat
	izadoras. Lo ocurrido marcó la vida político-social de la\ncapital alavesa
	 y quedó anclado en la memoria colectiva de la ciudad. Hoy en día\nla memo
	ria del 3 de Marzo es hegemónica\, pero al mismo tiempo conflictiva.
URL:https://do.basspistol.org/event/presentacio-del-llibre-3-de-marzo-huelg
	a-masacre-y-memoria
LOCATION:Associació Cultural el Raval - El Lokal - C/ de la cera 1 local 4
STATUS:CONFIRMED
CATEGORIES:
X-ALT-DESC;FMTTYPE=text/html:<p>dilluns 27 d’abril a les 19 h al Lokal C/ d
	e la Cera 1 local 4.</p><p>Presentació del llibre: 3 de Mazo: Huelga, masa
	cre y memoria</p><p>amb l’autor: Jon Martínez Larrea</p><p>El 3 de marzo d
	e 1976 la policía mató a cinco trabajadores cuando intentaban celebrar una
	 asamblea en Gasteiz. La ciudad se encontraba en pleno proceso de transfor
	mación y aquel suceso supuso un punto de inflexión. Para comprender la mas
	acre, sin embargo, es necesario conocer los pormenores de la huelga desarr
	ollada durante los dos meses anteriores: los antecedentes, la concienciaci
	ón obrera y el esquema asambleario basado en las Comisiones Representativa
	s. Un proceso que, para muchas personas, significó un rápido proceso de em
	poderamiento, especialmente en el caso de las mujeres.</p><p>La masacre de
	 Gasteiz desmiente el mito de la Transición pacífica y, además de evidenci
	ar la impunidad de la violencia policial, demuestra que existieron alterna
	tivas democratizadoras. Lo ocurrido marcó la vida político-social de la ca
	pital alavesa y quedó anclado en la memoria colectiva de la ciudad. Hoy en
	 día la memoria del 3 de Marzo es hegemónica, pero al mismo tiempo conflic
	tiva.</p>
BEGIN:VALARM
ACTION:DISPLAY
DESCRIPTION:Presentació del llibre: “3 de Marzo. Huelga, masacre y memoria”
TRIGGER:-PT1H
END:VALARM
END:VEVENT
END:VCALENDAR
