BEGIN:VCALENDAR
VERSION:2.0
CALSCALE:GREGORIAN
PRODID:adamgibbons/ics
METHOD:PUBLISH
X-PUBLISHED-TTL:PT1H
BEGIN:VEVENT
UID:13094@do.basspistol.org
SUMMARY:Ring poètic a la Base!
DTSTAMP:20260420T200617Z
DTSTART:20260424T180000Z
DTEND:20260424T215500Z
DESCRIPTION: Torna el Ring Poètic de La Base!\n\nUna vetllada que de fa any
	s es va començar a organitzar des de la Biblio\nEspontània de l'ateneu\, i
	 avui ja és tota una tradició.\n\n Divendres 24/04 a partir de les 20h\n\n
	 Com funciona?\n\nProposem passar una vetllada on qui vulgui reciti\, cant
	i\, digui... tot s'hi val.\nI com sempre\, amb un seguit de temes que us i
	nspirin:\n\n Humitats o tota l’aigua que brolla. De la saó que fa germinar
	 a les inundacions\ni totes les «humitats personals»\n Intel·ligència natu
	ral\, contrària a l'artificial. Per una educació digna i\ndecent (- ratios
	 i + recursos)\n No passaran\, perquè som antifeixistes. Contra les dretes
	 extremes i\nl’imperialisme.\n Cos-territori o totes les identitats\, que 
	ens conformen i ens deformen o ens\nfan ser.\n Barri o la supervivència d’
	un nosaltres\, de comunitat\, d'amistat i un sostre\nque ens aixopluga\n N
	o a les guerres i no a tot al rearmament. Free palestine.\n Barra lliure i
	 tot el que pugueu i vulgueu imaginar\n\n Inscripcions a ringlabase@gmail.
	com [ringlabase@gmail.com]
URL:https://do.basspistol.org/event/ring-poetic-a-la-base
GEO:41.3731861;2.1672621
LOCATION:Ateneu La Base - 10\, Carrer d'Hortes\, el Poble-sec\, Barcelona\,
	 08001
STATUS:CONFIRMED
CATEGORIES:autogestió,sparring,poesia
X-ALT-DESC;FMTTYPE=text/html:<p>&nbsp;Torna el<strong>&nbsp;Ring Poètic de 
	La Base</strong>!<br><br>Una vetllada que de fa anys es va començar a orga
	nitzar des de la Biblio Espontània de l'ateneu, i avui ja és tota una trad
	ició.<br><br><strong>&nbsp;Divendres 24/04 a partir de les 20h</strong><br
	><br>&nbsp;Com funciona?<br><br>Proposem passar una vetllada on qui vulgui
	 reciti, canti, digui... tot s'hi val. I com sempre, amb un seguit de teme
	s que us inspirin:<br><br><strong>&nbsp;Humitats o tota l’aigua que brolla
	.</strong>&nbsp;De la saó que fa germinar a les inundacions i totes les «h
	umitats personals»<br><strong>&nbsp;Intel·ligència natural,</strong>&nbsp;
	contrària a l'artificial. Per una educació digna i decent (- ratios i + re
	cursos)<br>&nbsp;<strong>No passaran</strong>, perquè som antifeixistes. C
	ontra les dretes extremes i l’imperialisme.<br><strong>&nbsp;Cos-territori
	 </strong>o totes les identitats, que ens conformen i ens deformen o ens f
	an ser. <br>&nbsp;<strong>Barri </strong>o la supervivència d’un nosaltres
	, de comunitat, d'amistat i un sostre que ens aixopluga<br>&nbsp;<strong>N
	o a les guerres</strong>&nbsp;i no a tot al rearmament. Free palestine.<br
	>&nbsp;<strong>Barra lliure</strong>&nbsp;i tot el que pugueu i vulgueu im
	aginar<br><br><strong>&nbsp;Inscripcions a </strong><a href="mailto:ringla
	base@gmail.com" target="_blank"><strong>ringlabase@gmail.com</strong></a><
	/p>
BEGIN:VALARM
ACTION:DISPLAY
DESCRIPTION:Ring poètic a la Base!
TRIGGER:-PT1H
END:VALARM
END:VEVENT
END:VCALENDAR
