BEGIN:VCALENDAR
VERSION:2.0
CALSCALE:GREGORIAN
PRODID:adamgibbons/ics
METHOD:PUBLISH
X-PUBLISHED-TTL:PT1H
BEGIN:VEVENT
UID:13095@do.basspistol.org
SUMMARY:Sonic Poison + Unearthly Rites
DTSTAMP:20260420T200806Z
DTSTART:20260429T180000Z
DTEND:20260429T215500Z
DESCRIPTION:Sonic Poison // Grindcore // Finland\n\nUnearhly Rites // Death
	 Metal // Finland
URL:https://do.basspistol.org/event/sonic-poison-unearthly-rites
LOCATION:Köpi - ask a punk
STATUS:CONFIRMED
CATEGORIES:diy,berlin,Death Metal // Grindcore // Finland
X-ALT-DESC;FMTTYPE=text/html:<p>Sonic Poison // Grindcore // Finland</p><p>
	Unearhly Rites // Death Metal // Finland</p>
BEGIN:VALARM
ACTION:DISPLAY
DESCRIPTION:Sonic Poison + Unearthly Rites
TRIGGER:-PT1H
END:VALARM
END:VEVENT
END:VCALENDAR
