BEGIN:VCALENDAR
VERSION:2.0
CALSCALE:GREGORIAN
PRODID:adamgibbons/ics
METHOD:PUBLISH
X-PUBLISHED-TTL:PT1H
BEGIN:VEVENT
UID:13113@do.basspistol.org
SUMMARY:Taller pràctic sobre vigilància mòbil
DTSTAMP:20260420T234324Z
DTSTART:20260422T170000Z
DTEND:20260422T200000Z
DESCRIPTION:La Colla de Dades del Canòdrom visita el Hacklab Logout de Can 
	Vies!\n\nAprenem sobre la infraestructura de telefonia mòbil i com s'abusa
	 per fer\nvigilància massiva o dirigida!
URL:https://do.basspistol.org/event/taller-practic-sobre-vigilancia-mobil
GEO:41.37411065;2.1345824467802545
LOCATION:CSA Can Vies - 42\, Carrer dels Jocs Florals\, Sants\, Barcelona\,
	 08014
STATUS:CONFIRMED
CATEGORIES:Sants,antirrepre,vigilancia,laCollaDeDades
X-ALT-DESC;FMTTYPE=text/html:<p>La Colla de Dades del Canòdrom visita el Ha
	cklab Logout de Can Vies!</p><p>Aprenem sobre la infraestructura de telefo
	nia mòbil i com s'abusa per fer vigilància massiva o dirigida!</p>
BEGIN:VALARM
ACTION:DISPLAY
DESCRIPTION:Taller pràctic sobre vigilància mòbil
TRIGGER:-PT1H
END:VALARM
END:VEVENT
END:VCALENDAR
