BEGIN:VCALENDAR
VERSION:2.0
CALSCALE:GREGORIAN
PRODID:adamgibbons/ics
METHOD:PUBLISH
X-PUBLISHED-TTL:PT1H
BEGIN:VEVENT
UID:13164@do.basspistol.org
SUMMARY:Trobada d'intervenció gràfica
DTSTAMP:20260422T130425Z
DTSTART:20260507T163000Z
DESCRIPTION:El dijous 7 de maig\, artistes i il·lustradores es reuniran per
	 compartir\nexperiències de difusió i explorar noves formes d’intervenció 
	gràfica política\nen l’espai públic.\n\n👉 Un punt de trobada per repensar 
	com intervenim des de la vessant artística:\ndes del cartell fins al mural
	\, des de l’acció efímera fins al grafiti. Aquí\, la\ncreativitat es posa 
	al servei d’una perspectiva crítica que qüestiona els\ndiscursos dominants
	 i obre espais de debat.\n\n🧑‍🎨 Amb Casa De Balneario\, Impremta Col·lectiva
	\, Paula Zapata\, Joan Manel\,\nSara Jansen\, Borja Lozano Castro\, Negres
	color i Maria i Punt\n\n🗓 Dijous\, 7 de maig\n\n🕡 18:30 h\n\n📍 Nau 69 de C
	an Batlló - C/ de la Constitució
URL:https://do.basspistol.org/event/trobada-dintervencio-grafica
GEO:41.3692405;2.1370339
LOCATION:Can Batlló - 19\, Carrer de la Constitució\, la Bordeta\, Barcelon
	a\, 08014
STATUS:CONFIRMED
CATEGORIES:art,arte urbano,can batlló
X-ALT-DESC;FMTTYPE=text/html:<p>El dijous 7 de maig, artistes i il·lustrado
	res es reuniran per compartir experiències de difusió i explorar noves for
	mes d’intervenció gràfica política en l’espai públic.</p><p>👉 Un punt de t
	robada per repensar com intervenim des de la vessant artística: des del ca
	rtell fins al mural, des de l’acció efímera fins al grafiti. Aquí, la crea
	tivitat es posa al servei d’una perspectiva crítica que qüestiona els disc
	ursos dominants i obre espais de debat.</p><p>🧑‍🎨 Amb Casa De Balneario, Imp
	remta Col·lectiva, Paula Zapata, Joan Manel, Sara Jansen, Borja Lozano Cas
	tro, Negrescolor i Maria i Punt</p><p>🗓 Dijous, 7 de maig</p><p>🕡 18:30 h<
	/p><p>📍 Nau 69 de Can Batlló - C/ de la Constitució</p>
BEGIN:VALARM
ACTION:DISPLAY
DESCRIPTION:Trobada d'intervenció gràfica
TRIGGER:-PT1H
END:VALARM
END:VEVENT
END:VCALENDAR
