BEGIN:VCALENDAR
VERSION:2.0
CALSCALE:GREGORIAN
PRODID:adamgibbons/ics
METHOD:PUBLISH
X-PUBLISHED-TTL:PT1H
BEGIN:VEVENT
UID:13183@do.basspistol.org
SUMMARY:TV FREAKS W/ PRIVATE LIVES AT BARFLY
DTSTAMP:20260422T225612Z
DTSTART:20260502T010000Z
DTEND:20260502T070000Z
URL:https://do.basspistol.org/event/tv-freaks-w-private-lives-at-barfly
LOCATION:Barfly - 4062A St Laurent\, Montréal\, Québec\, Canada
STATUS:CONFIRMED
CATEGORIES:punk,barfly,montreal,rocknroll,tvfreaks,privatelives
BEGIN:VALARM
ACTION:DISPLAY
DESCRIPTION:TV FREAKS W/ PRIVATE LIVES AT BARFLY
TRIGGER:-PT1H
END:VALARM
END:VEVENT
END:VCALENDAR
