BEGIN:VCALENDAR
VERSION:2.0
CALSCALE:GREGORIAN
PRODID:adamgibbons/ics
METHOD:PUBLISH
X-PUBLISHED-TTL:PT1H
BEGIN:VEVENT
UID:13270@do.basspistol.org
SUMMARY:ZERO Cineforum - Il conformista
DTSTAMP:20260426T020609Z
DTSTART:20260428T170000Z
DESCRIPTION:ZERO CINEFORUM - MARTEDÌ 28\nPALAZZO HERCOLANI (Strada Maggiore
	 45)\n\nH19 APERITIVO\nBirrette\, musica e socialità\n\nH20.30 PROIEZIONE\
	nIl conformista (1970) di Bernardo Bertolucci\n\nA SEGUIRE\nDibattito e bi
	rrette
URL:https://do.basspistol.org/event/zero-cineforum-il-conformista
LOCATION:Palazzo Hercolani - Strada Maggiore\, 45
STATUS:CONFIRMED
CATEGORIES:cineforum,aperitivo,socialità
X-ALT-DESC;FMTTYPE=text/html:<p>ZERO CINEFORUM - MARTEDÌ 28<br>PALAZZO HERC
	OLANI (Strada Maggiore 45)<br><br>H19 APERITIVO<br>Birrette, musica e soci
	alità<br><br>H20.30 PROIEZIONE<br>Il conformista (1970) di Bernardo Bertol
	ucci<br><br>A SEGUIRE<br>Dibattito e birrette</p>
BEGIN:VALARM
ACTION:DISPLAY
DESCRIPTION:ZERO Cineforum - Il conformista
TRIGGER:-PT1H
END:VALARM
END:VEVENT
END:VCALENDAR
