BEGIN:VCALENDAR
VERSION:2.0
CALSCALE:GREGORIAN
PRODID:adamgibbons/ics
METHOD:PUBLISH
X-PUBLISHED-TTL:PT1H
BEGIN:VEVENT
UID:13100@do.basspistol.org
SUMMARY:Zona Uni antifascista
DTSTAMP:20260420T233139Z
DTSTART:20260421T110000Z
DTEND:20260421T215000Z
DESCRIPTION:🌹 21 aprile 2026 :GIORNATA DELLA LIBERAZIONE DI BOLOGNA\nLa zon
	a uni è e sarà sempre antifascista\n\nNella giornata della liberazione d
	i Bologna scegliamo di riempire le strade e le\npiazze della zona universi
	taria\, perché vogliamo continuare a riappropriarci\ndei luoghi che attra
	versiamo ogni giorno per liberarli dalle logiche securitarie\ne guerrafond
	aie\, perché essere antifasciste per noi oggi vuol dire continuare a\nlot
	tare per una vita bella per tutt3\n\n➡️ H13 PASTASCIUTTATA ANTIFASCISTA @ V
	ia Zamboni\nmangiare in zona universitaria è sempre più inaccessibile\, 
	riprendiamoci via\nZamboni con una gigante tavolata ed un pranzo tutt3 ass
	ieme!\n\n➡️ H15 CACCIA AL TESORO ANTIFA attraverso i luoghi delle lotte di 
	ieri e di\noggi. @ Via Zamboni\nLa zona universitaria è da sempre luogo d
	i conflitto\, ribaltiamo assieme la\nnarrazione di chi la vorrebbe luogo p
	acificato\, ricostruiamo assieme la storia\nantifascista di questa parte d
	i città!! Vieni a scoprire di cosa si tratta 😉\n\n➡️ dalle 17 BANCHETTI\, 
	MOSTRE assieme a birrette e musichette @ Piazza\nScaravilli\ndurante la gi
	ornata faremo un murales in ricordo di Scaravilli\, studente ucciso\nper m
	ano fascista durante la battaglia dell'università.\n\n➡️ H19 Presentazione
	 del documentario "The Forgotten Front - La Resistenza a\nBologna" . Ne pa
	rliamo con Toni Rovatti\, docente Unibo\, studiosa dei movimenti\ndi resis
	tenza e partecipante alla realizzazione della pellicola.\n\n➡️ dalle 21 DJ 
	SET by AboAbo\nliberiamo gli spazi con i nostri corpi danzanti\, desideran
	ti\, liberi e\ndissidenti\n\n🔥NELLA MEMORIA L'ESEMPIO\, NELLA LOTTA LA PRA
	TICA : ci vediamo il 21 aprile in\nzona universitaria!
URL:https://do.basspistol.org/event/zona-uni-antifascista
GEO:44.4971;11.3516
LOCATION:Zamboni 38 - 38\, Via Zamboni\, Irnerio\, Santo Stefano\, Bologna\
	, Emilia-Romagna\, 40126\, Italia
STATUS:CONFIRMED
CATEGORIES:antifascismo,djset,banchetti,documentario,caccia al tesoro,CUA,p
	astasciutta antifascista
X-ALT-DESC;FMTTYPE=text/html:<p>🌹 21 aprile 2026 :GIORNATA DELLA LIBERAZION
	E DI BOLOGNA<br>La zona uni è e sarà sempre antifascista <br><br>Nella g
	iornata della liberazione di Bologna scegliamo di riempire le strade e le 
	piazze della zona universitaria, perché vogliamo continuare a riappropria
	rci dei luoghi che attraversiamo ogni giorno per liberarli dalle logiche s
	ecuritarie e guerrafondaie, perché essere antifasciste per noi oggi vuol 
	dire continuare a lottare per una vita bella per tutt3<br><br>➡️ H13 PASTAS
	CIUTTATA ANTIFASCISTA @ Via Zamboni <br>mangiare in zona universitaria è 
	sempre più inaccessibile, riprendiamoci via Zamboni con una gigante tavol
	ata ed un pranzo tutt3 assieme! <br><br>➡️ H15 CACCIA AL TESORO ANTIFA attr
	averso i luoghi delle lotte di ieri e di oggi. @ Via Zamboni<br>La zona un
	iversitaria è da sempre luogo di conflitto, ribaltiamo assieme la narrazi
	one di chi la vorrebbe luogo pacificato, ricostruiamo assieme la storia an
	tifascista di questa parte di città!! Vieni a scoprire di cosa si tratta 
	😉<br><br>➡️ dalle 17 BANCHETTI, MOSTRE assieme a birrette e musichette @ Pi
	azza Scaravilli<br>durante la giornata faremo un murales in ricordo di Sca
	ravilli, studente ucciso per mano fascista durante la battaglia dell'unive
	rsità.<br><br>➡️ H19 Presentazione del documentario "The Forgotten Front -
	 La Resistenza a Bologna" . Ne parliamo con Toni Rovatti, docente Unibo, s
	tudiosa dei movimenti di resistenza e partecipante alla realizzazione dell
	a pellicola.<br><br>➡️ dalle 21 DJ SET by AboAbo<br>liberiamo gli spazi con
	 i nostri corpi danzanti, desideranti, liberi e dissidenti<br><br>🔥NELLA M
	EMORIA L'ESEMPIO, NELLA LOTTA LA PRATICA : ci vediamo il 21 aprile in zona
	 universitaria!</p>
BEGIN:VALARM
ACTION:DISPLAY
DESCRIPTION:Zona Uni antifascista
TRIGGER:-PT1H
END:VALARM
END:VEVENT
END:VCALENDAR
