BEGIN:VCALENDAR
VERSION:2.0
CALSCALE:GREGORIAN
PRODID:adamgibbons/ics
METHOD:PUBLISH
X-PUBLISHED-TTL:PT1H
BEGIN:VEVENT
UID:11872@do.basspistol.org
SUMMARY:PER LA RASSEGNA GIOVEDÌ GUERRA PROIEZIONE DEL FILM IL DOTTOR STRANA
	MORE
DTSTAMP:20260420T010100Z
DTSTART:20260423T190000Z
URL:https://do.basspistol.org/event/per-la-rassegna-giovedi-guerra-proiezio
	ne-del-film-il-dottor-stranamore
GEO:45.02343145;7.65609886065984
LOCATION:El Paso Occupato - Via Passo Buole\, 47\, Torino
STATUS:CONFIRMED
CATEGORIES:Rassegna cinematografica
END:VEVENT
BEGIN:VEVENT
UID:11873@do.basspistol.org
SUMMARY:PER LA RASSEGNA GIOVEDÌ GUERRA PROIEZIONE DEL FILM VALZER CON BASHI
	R
DTSTAMP:20260420T010100Z
DTSTART:20260430T190000Z
URL:https://do.basspistol.org/event/per-la-rassegna-giovedi-guerra-proiezio
	ne-del-film-valzer-con-bashir
GEO:45.02343145;7.65609886065984
LOCATION:El Paso Occupato - Via Passo Buole\, 47\, Torino
STATUS:CONFIRMED
CATEGORIES:Rassegna cinematografica
END:VEVENT
BEGIN:VEVENT
UID:13066@do.basspistol.org
SUMMARY:A night like no otter
DTSTAMP:20260420T010100Z
DTSTART:20260430T203000Z
DTEND:20260501T010000Z
URL:https://do.basspistol.org/event/a-night-like-no-otter
GEO:45.02343145;7.65609886065984
LOCATION:El Paso Occupato - Via Passo Buole\, 47\, Torino
STATUS:CONFIRMED
CATEGORIES:
END:VEVENT
BEGIN:VEVENT
UID:10762@do.basspistol.org
SUMMARY:SPACE BUCKET (F) + LE CAROGNE + DJ SET MYSTIC SISTER
DTSTAMP:20260420T010100Z
DTSTART:20260508T203000Z
DTEND:20260509T010000Z
URL:https://do.basspistol.org/event/space-bucket-f-le-carogne-dj-set-mystic
	-sister
GEO:45.02343145;7.65609886065984
LOCATION:El Paso Occupato - Via Passo Buole\, 47\, Torino
STATUS:CONFIRMED
CATEGORIES:
END:VEVENT
BEGIN:VEVENT
UID:12581@do.basspistol.org
SUMMARY:TROPPA CARNE AL FUOCO FEST! #4
DTSTAMP:20260420T010100Z
DTSTART:20260605T150000Z
DTEND:20260607T210000Z
URL:https://do.basspistol.org/event/troppa-carne-al-fuoco-fest-4
GEO:45.02343145;7.65609886065984
LOCATION:El Paso Occupato - Via Passo Buole\, 47\, Torino
STATUS:CONFIRMED
CATEGORIES:
END:VEVENT
END:VCALENDAR
