BEGIN:VCALENDAR
VERSION:2.0
CALSCALE:GREGORIAN
PRODID:adamgibbons/ics
METHOD:PUBLISH
X-PUBLISHED-TTL:PT1H
BEGIN:VEVENT
UID:13058@do.basspistol.org
SUMMARY:Apertura Porfido
DTSTAMP:20260419T234537Z
DTSTART:20260421T140000Z
DTEND:20260421T173000Z
URL:https://do.basspistol.org/event/apertura-porfido
GEO:45.0714423;7.6962356
LOCATION:Centro di Documentazione Porfido - Via Tarino 12/c\, Torino
STATUS:CONFIRMED
CATEGORIES:
END:VEVENT
BEGIN:VEVENT
UID:13059@do.basspistol.org
SUMMARY:Apertura Porfido
DTSTAMP:20260419T234537Z
DTSTART:20260422T140000Z
DTEND:20260422T173000Z
URL:https://do.basspistol.org/event/apertura-porfido-1
GEO:45.0714423;7.6962356
LOCATION:Centro di Documentazione Porfido - Via Tarino 12/c\, Torino
STATUS:CONFIRMED
CATEGORIES:
END:VEVENT
BEGIN:VEVENT
UID:13060@do.basspistol.org
SUMMARY:Banchetto di Porfido ai Giardini Reali
DTSTAMP:20260419T234537Z
DTSTART:20260425T140000Z
DTEND:20260425T173000Z
URL:https://do.basspistol.org/event/banchetto-di-porfido-ai-giardini-reali
GEO:45.0714423;7.6962356
LOCATION:Centro di Documentazione Porfido - Via Tarino 12/c\, Torino
STATUS:CONFIRMED
CATEGORIES:
END:VEVENT
END:VCALENDAR
