BEGIN:VCALENDAR
VERSION:2.0
CALSCALE:GREGORIAN
PRODID:adamgibbons/ics
METHOD:PUBLISH
X-PUBLISHED-TTL:PT1H
BEGIN:VEVENT
UID:13055@do.basspistol.org
SUMMARY:Letture Condivise
DTSTAMP:20260426T030759Z
DTSTART:20260426T123000Z
DTEND:20260426T180000Z
URL:https://do.basspistol.org/event/letture-condivise
LOCATION:Casa Cassiopea - Magnano (BI)\, via Campi 20
STATUS:CONFIRMED
CATEGORIES:
END:VEVENT
END:VCALENDAR
