BEGIN:VCALENDAR
VERSION:2.0
CALSCALE:GREGORIAN
PRODID:adamgibbons/ics
METHOD:PUBLISH
X-PUBLISHED-TTL:PT1H
BEGIN:VEVENT
UID:12185@do.basspistol.org
SUMMARY:PARKING LIFE Release Party: SEUM // NELLIGAN // FEARTILIZER 1492 //
	 UNSUCKED (ALL AGES / PWYC)
DTSTAMP:20260424T011025Z
DTSTART:20260502T230000Z
DTEND:20260503T030000Z
URL:https://do.basspistol.org/event/parking-life-release-party-seum-nelliga
	n-feartilizer-1492-unsucked-all-ages-pwyc
GEO:45.5192456;-73.5849089
LOCATION:toscadura - 4388 st laurent\, montreal\, qc
STATUS:CONFIRMED
CATEGORIES:ALL AGES,Feartilizer 1492,La Toscadura,PWYC,SEUM,TOEVENEXIST,uns
	ucked
END:VEVENT
BEGIN:VEVENT
UID:12629@do.basspistol.org
SUMMARY:ZORN (Philly)\, SKALLAR (Baltimore)\, PORTAL TOMB\, DUREX\, CASCADE
	S
DTSTAMP:20260424T011025Z
DTSTART:20260717T230000Z
DTEND:20260718T043000Z
URL:https://do.basspistol.org/event/zorn-philly-skallar-baltimore-portal-to
	mb-durex-cascades
GEO:45.5192456;-73.5849089
LOCATION:toscadura - 4388 st laurent\, montreal\, qc
STATUS:CONFIRMED
CATEGORIES:crust,hardcore,metal,punk
END:VEVENT
BEGIN:VEVENT
UID:12769@do.basspistol.org
SUMMARY:ZORN / SKALLAR / PORTAL TOMB / DUREX / CASCADES
DTSTAMP:20260424T011025Z
DTSTART:20260717T230000Z
DTEND:20260718T035500Z
URL:https://do.basspistol.org/event/zorn-skallar-portal-tomb-durex-cascades
GEO:45.5192456;-73.5849089
LOCATION:toscadura - 4388 st laurent\, montreal\, qc
STATUS:CONFIRMED
CATEGORIES:
END:VEVENT
END:VCALENDAR
