BEGIN:VCALENDAR
VERSION:2.0
CALSCALE:GREGORIAN
PRODID:adamgibbons/ics
METHOD:PUBLISH
X-PUBLISHED-TTL:PT1H
BEGIN:VEVENT
UID:13046@do.basspistol.org
SUMMARY:PARDALEJANT - Ruta ornitològica per l'horta de Benimaclet
DTSTAMP:20260421T113722Z
DTSTART:20260421T163000Z
DTEND:20260421T183000Z
URL:https://do.basspistol.org/event/pardalejant-ruta-ornitologica-per-lhort
	a-de-benimaclet
LOCATION:Jardí Lluerna (Benimaclet) - Descampat de Benimaclet
STATUS:CONFIRMED
CATEGORIES:valencia,valència
END:VEVENT
END:VCALENDAR
