BEGIN:VCALENDAR
VERSION:2.0
CALSCALE:GREGORIAN
PRODID:adamgibbons/ics
METHOD:PUBLISH
X-PUBLISHED-TTL:PT1H
BEGIN:VEVENT
UID:13048@do.basspistol.org
SUMMARY:Cena sociale di quartiere GRAB
DTSTAMP:20260419T150553Z
DTSTART:20260421T180000Z
DTEND:20260421T215500Z
URL:https://do.basspistol.org/event/cena-sociale-di-quartiere-grab
GEO:45.08433455;7.68700243440531
LOCATION:Giardino "Madre Teresa di Calcutta" (ingresso C.so Giulio Cesare) 
	- Circoscrizione 7\, Torino\, Piemonte\, 10152\, Italia
STATUS:CONFIRMED
CATEGORIES:
END:VEVENT
END:VCALENDAR
