BEGIN:VCALENDAR
VERSION:2.0
CALSCALE:GREGORIAN
PRODID:adamgibbons/ics
METHOD:PUBLISH
X-PUBLISHED-TTL:PT1H
BEGIN:VEVENT
UID:13051@do.basspistol.org
SUMMARY:SuperCheri + Garrrot
DTSTAMP:20260419T181353Z
DTSTART:20260425T070000Z
DTEND:20260425T095500Z
URL:https://do.basspistol.org/event/supercheri-garrrot
LOCATION:Grüner Salon Volksbühne - Linienstraße 227\, 10178 Berlin
STATUS:CONFIRMED
CATEGORIES:berlin,diy,post-punk,punk
END:VEVENT
END:VCALENDAR
