BEGIN:VCALENDAR
VERSION:2.0
CALSCALE:GREGORIAN
PRODID:adamgibbons/ics
METHOD:PUBLISH
X-PUBLISHED-TTL:PT1H
BEGIN:VEVENT
UID:13068@do.basspistol.org
SUMMARY:Vivotecnia a Juicio
DTSTAMP:20260420T023802Z
DTSTART:20260507T070000Z
DTEND:20260508T215900Z
URL:https://do.basspistol.org/event/vivotecnia-a-juicio
LOCATION:Juzgados de lo penal - Calle de Julián Camarillo\, 11
STATUS:CONFIRMED
CATEGORIES:Madrid
END:VEVENT
END:VCALENDAR
