BEGIN:VCALENDAR
VERSION:2.0
CALSCALE:GREGORIAN
PRODID:adamgibbons/ics
METHOD:PUBLISH
X-PUBLISHED-TTL:PT1H
BEGIN:VEVENT
UID:13069@do.basspistol.org
SUMMARY:Manifestación "Vivotecnia a juicio"
DTSTAMP:20260420T023613Z
DTSTART:20260509T160000Z
DTEND:20260509T180000Z
URL:https://do.basspistol.org/event/manifestacion-vivotecnia-a-juicio
LOCATION:Metro Tribunal a Ópera - Plaza Barceló
STATUS:CONFIRMED
CATEGORIES:Madrid
END:VEVENT
END:VCALENDAR
