BEGIN:VCALENDAR
VERSION:2.0
CALSCALE:GREGORIAN
PRODID:adamgibbons/ics
METHOD:PUBLISH
X-PUBLISHED-TTL:PT1H
BEGIN:VEVENT
UID:13080@do.basspistol.org
SUMMARY:DIA DEL LLIBRE A LA POLILLA
DTSTAMP:20260420T154648Z
DTSTART:20260423T090000Z
DTEND:20260423T170000Z
URL:https://do.basspistol.org/event/dia-del-llibre-a-la-polilla
GEO:41.40266345;2.158146050000001
LOCATION:La Polilla - Plaça Revolució\, Barcelona
STATUS:CONFIRMED
CATEGORIES:
END:VEVENT
BEGIN:VEVENT
UID:13083@do.basspistol.org
SUMMARY:🦋ACTIVITATS POLILLA MAIG 🦋
DTSTAMP:20260420T154648Z
DTSTART:20260425T090000Z
DTEND:20260425T120000Z
URL:https://do.basspistol.org/event/activitats-polilla-maig
GEO:41.40266345;2.158146050000001
LOCATION:La Polilla - Plaça Revolució\, Barcelona
STATUS:CONFIRMED
CATEGORIES:
END:VEVENT
END:VCALENDAR
