BEGIN:VCALENDAR
VERSION:2.0
CALSCALE:GREGORIAN
PRODID:adamgibbons/ics
METHOD:PUBLISH
X-PUBLISHED-TTL:PT1H
BEGIN:VEVENT
UID:13098@do.basspistol.org
SUMMARY:Lettura collettiva Rendere pulito il mondo
DTSTAMP:20260420T214227Z
DTSTART:20260421T163000Z
URL:https://do.basspistol.org/event/lettura-collettiva-rendere-pulito-il-mo
	ndo
LOCATION:La Casa del Mondo - Via di Vincenzo 18A Bologna
STATUS:CONFIRMED
CATEGORIES:Anticolonialismo,antirazzismo,ecologia,lettura collettiva,libro
END:VEVENT
END:VCALENDAR
