BEGIN:VCALENDAR
VERSION:2.0
CALSCALE:GREGORIAN
PRODID:adamgibbons/ics
METHOD:PUBLISH
X-PUBLISHED-TTL:PT1H
BEGIN:VEVENT
UID:13103@do.basspistol.org
SUMMARY:Targa ai caduti della Cirenaica
DTSTAMP:20260421T014233Z
DTSTART:20260421T170000Z
URL:https://do.basspistol.org/event/targa-ai-caduti-della-cirenaica
GEO:44.4966;11.3641
LOCATION:via Giuseppe Bentivogli\, 44 - 44\, Via Giuseppe Bentivogli\, Cire
	naica\, San Donato-San Vitale\, Bologna\, Emilia-Romagna\, 40138\, Italia
STATUS:CONFIRMED
CATEGORIES:antifascismo
END:VEVENT
END:VCALENDAR
