BEGIN:VCALENDAR
VERSION:2.0
CALSCALE:GREGORIAN
PRODID:adamgibbons/ics
METHOD:PUBLISH
X-PUBLISHED-TTL:PT1H
BEGIN:VEVENT
UID:13119@do.basspistol.org
SUMMARY:Presentación del libro 'Putas rebeldes'
DTSTAMP:20260421T113437Z
DTSTART:20260429T170000Z
URL:https://do.basspistol.org/event/presentacion-del-libro-putas-rebeldes
LOCATION:Librería Mary Read - C. del Marqués de Toca\, 3\, Centro\, 28012 M
	adrid
STATUS:CONFIRMED
CATEGORIES:Madrid,PResentación de libro,Trabajo sexual,historia
END:VEVENT
END:VCALENDAR
