BEGIN:VCALENDAR
VERSION:2.0
CALSCALE:GREGORIAN
PRODID:adamgibbons/ics
METHOD:PUBLISH
X-PUBLISHED-TTL:PT1H
BEGIN:VEVENT
UID:13130@do.basspistol.org
SUMMARY:Record i homenatge al lluitador per la justícia i la llibertat Orio
	l Solé Sugranyes
DTSTAMP:20260421T161055Z
DTSTART:20260430T140000Z
URL:https://do.basspistol.org/event/record-i-homenatge-al-lluitador-per-la-
	justicia-i-la-llibertat-oriol-sole-sugranyes
LOCATION:Ateneu Barcelonès - Carrer de la Canuda\, 6
STATUS:CONFIRMED
CATEGORIES:Oriol Solé Sugranyes,presentació de llibre
END:VEVENT
END:VCALENDAR
