BEGIN:VCALENDAR
VERSION:2.0
CALSCALE:GREGORIAN
PRODID:adamgibbons/ics
METHOD:PUBLISH
X-PUBLISHED-TTL:PT1H
BEGIN:VEVENT
UID:13131@do.basspistol.org
SUMMARY:¿Y si soy más machi de lo que pienso?
DTSTAMP:20260421T161125Z
DTSTART:20260425T090000Z
DTEND:20260425T110000Z
URL:https://do.basspistol.org/event/y-si-soy-mas-machi-de-lo-que-pienso
GEO:40.4107691;-3.7001204
LOCATION:CSA  Tres Peces Tres - Calle Tres Peces 3
STATUS:CONFIRMED
CATEGORIES:Madrid
END:VEVENT
END:VCALENDAR
