BEGIN:VCALENDAR
VERSION:2.0
CALSCALE:GREGORIAN
PRODID:adamgibbons/ics
METHOD:PUBLISH
X-PUBLISHED-TTL:PT1H
BEGIN:VEVENT
UID:13135@do.basspistol.org
SUMMARY:E se una caserma diventasse un parco? - COSTRUIAMOLO INSIEME IL 9 E
	 IL 10 MAGGIO
DTSTAMP:20260421T192110Z
DTSTART:20260509T090000Z
DTEND:20260510T210000Z
URL:https://do.basspistol.org/event/e-se-una-caserma-diventasse-un-parco-co
	struiamolo-insieme-il-9-e-il-10-maggio
GEO:44.5138;11.3557
LOCATION:Ex Caserma Sani - Via Ferruccio Parri\, Casaralta\, Quartiere Navi
	le\, Bologna\, Emilia-Romagna\, 40129\, Italia
STATUS:CONFIRMED
CATEGORIES:cena,concerti,laboratorio,libri,musica,presentazione
END:VEVENT
END:VCALENDAR
