BEGIN:VCALENDAR
VERSION:2.0
CALSCALE:GREGORIAN
PRODID:adamgibbons/ics
METHOD:PUBLISH
X-PUBLISHED-TTL:PT1H
BEGIN:VEVENT
UID:13139@do.basspistol.org
SUMMARY:Dalle Belle città - La RESISTENZA VISTA DAGLI OCCHI DI UNA DONNA LI
	BERA\, MADRE IN APPRENSIONE PER IL FIGLIO PARTIGIANO
DTSTAMP:20260421T215517Z
DTSTART:20260422T183000Z
DTEND:20260422T203000Z
URL:https://do.basspistol.org/event/dalle-belle-citta-la-resistenza-vista-d
	agli-occhi-di-una-donna-libera-madre-in-apprensione-per-il-figlio-partigia
	no
LOCATION:Libreria Comunardi - v. Bogino\, 2 Torino
STATUS:CONFIRMED
CATEGORIES:
END:VEVENT
END:VCALENDAR
