BEGIN:VCALENDAR
VERSION:2.0
CALSCALE:GREGORIAN
PRODID:adamgibbons/ics
METHOD:PUBLISH
X-PUBLISHED-TTL:PT1H
BEGIN:VEVENT
UID:13144@do.basspistol.org
SUMMARY:CONTRO LA GUERRA: DISERZIONE
DTSTAMP:20260421T215107Z
DTSTART:20260425T130000Z
URL:https://do.basspistol.org/event/contro-la-guerra-diserzione
LOCATION:Parco del Mauriziano Chivasso - Parco del Mauriziano Chivasso
STATUS:CONFIRMED
CATEGORIES:concerto,lotta
END:VEVENT
END:VCALENDAR
