BEGIN:VCALENDAR
VERSION:2.0
CALSCALE:GREGORIAN
PRODID:adamgibbons/ics
METHOD:PUBLISH
X-PUBLISHED-TTL:PT1H
BEGIN:VEVENT
UID:13162@do.basspistol.org
SUMMARY:Cura e Digitale: spazio di condivisione e di confronto
DTSTAMP:20260422T143014Z
DTSTART:20260427T160000Z
DTEND:20260427T183000Z
URL:https://do.basspistol.org/event/cura-e-digitale-spazio-di-condivisione-
	e-di-confronto
GEO:44.4897;11.3493
LOCATION:Teatro di Sociodramma - via Cartoleria 18
STATUS:CONFIRMED
CATEGORIES:cura,digitale
END:VEVENT
BEGIN:VEVENT
UID:13163@do.basspistol.org
SUMMARY:Cura e Digitale. Spazi di condivisione e confronto
DTSTAMP:20260422T143014Z
DTSTART:20260511T160000Z
DTEND:20260511T183000Z
URL:https://do.basspistol.org/event/cura-e-digitale-spazi-di-condivisione-e
	-confronto
GEO:44.4897;11.3493
LOCATION:Teatro di Sociodramma - via Cartoleria 18
STATUS:CONFIRMED
CATEGORIES:cura,digitale
END:VEVENT
END:VCALENDAR
