BEGIN:VCALENDAR
VERSION:2.0
CALSCALE:GREGORIAN
PRODID:adamgibbons/ics
METHOD:PUBLISH
X-PUBLISHED-TTL:PT1H
BEGIN:VEVENT
UID:13167@do.basspistol.org
SUMMARY:Festa d'aprile e mostra di Collaggio
DTSTAMP:20260422T171459Z
DTSTART:20260424T160000Z
DTEND:20260424T220000Z
URL:https://do.basspistol.org/event/festa-daprile-e-mostra-di-collaggio
LOCATION:Amarilli café - Via san vitale\, 54/E
STATUS:CONFIRMED
CATEGORIES:Bologna,antifascismo,aperitivo,diy,musica,presentazione
END:VEVENT
END:VCALENDAR
