BEGIN:VCALENDAR
VERSION:2.0
CALSCALE:GREGORIAN
PRODID:adamgibbons/ics
METHOD:PUBLISH
X-PUBLISHED-TTL:PT1H
BEGIN:VEVENT
UID:13212@do.basspistol.org
SUMMARY:25 aprile. Contro la guerra\, il fascismo\, la repressione
DTSTAMP:20260423T202128Z
DTSTART:20260425T130000Z
DTEND:20260425T153000Z
URL:https://do.basspistol.org/event/25-aprile-contro-la-guerra-il-fascismo-
	la-repressione
LOCATION:lapide del partigiano anarchico Ilio Baroni - corso Giulio Cesare 
	angolo corso Novara
STATUS:CONFIRMED
CATEGORIES:25 aprile,antifascismo,antimilitarista,presidio
END:VEVENT
END:VCALENDAR
