BEGIN:VCALENDAR
VERSION:2.0
CALSCALE:GREGORIAN
PRODID:adamgibbons/ics
METHOD:PUBLISH
X-PUBLISHED-TTL:PT1H
BEGIN:VEVENT
UID:13228@do.basspistol.org
SUMMARY:Assemblea terrona transfemminista Torino
DTSTAMP:20260424T120623Z
DTSTART:20260429T171500Z
URL:https://do.basspistol.org/event/assemblea-terrona-transfemminista-torin
	o
GEO:45.0841871;7.6753501
LOCATION:Spazio Popolare Neruda - Corso Ciriè 7\, 10124\, Torino
STATUS:CONFIRMED
CATEGORIES:
END:VEVENT
END:VCALENDAR
