BEGIN:VCALENDAR
VERSION:2.0
CALSCALE:GREGORIAN
PRODID:adamgibbons/ics
METHOD:PUBLISH
X-PUBLISHED-TTL:PT1H
BEGIN:VEVENT
UID:13247@do.basspistol.org
SUMMARY:Pantumacona
DTSTAMP:20260424T204851Z
DTSTART:20260430T220000Z
DTEND:20260503T215500Z
URL:https://do.basspistol.org/event/pantumacona
LOCATION:Descentralitzat - A cap puesto en concret
STATUS:CONFIRMED
CATEGORIES:Bicicleta,barcelona,bici,bicis,massa critica,tallers autogestion
	ats de bicis
END:VEVENT
END:VCALENDAR
