BEGIN:VCALENDAR
VERSION:2.0
CALSCALE:GREGORIAN
PRODID:adamgibbons/ics
METHOD:PUBLISH
X-PUBLISHED-TTL:PT1H
BEGIN:VEVENT
UID:13271@do.basspistol.org
SUMMARY:Hazy Oak - Saint Willow - King Death à l'Hémisphère Gauche
DTSTAMP:20260426T032601Z
DTSTART:20260530T230000Z
URL:https://do.basspistol.org/event/hazy-oak-saint-willow-king-death-a-lhem
	isphere-gauche
LOCATION:l'Hémisphère Gauche - 221 Rue Beaubien E
STATUS:CONFIRMED
CATEGORIES:
END:VEVENT
END:VCALENDAR
